BEGIN:VCALENDAR
VERSION:2.0
PRODID:-//New Mexico Farm &amp; Ranch Heritage Museum - ECPv6.15.20//NONSGML v1.0//EN
CALSCALE:GREGORIAN
METHOD:PUBLISH
X-ORIGINAL-URL:https://nmfarmandranchmuseum.org
X-WR-CALDESC:Events for New Mexico Farm &amp; Ranch Heritage Museum
REFRESH-INTERVAL;VALUE=DURATION:PT1H
X-Robots-Tag:noindex
X-PUBLISHED-TTL:PT1H
BEGIN:VTIMEZONE
TZID:America/Chicago
BEGIN:DAYLIGHT
TZOFFSETFROM:-0600
TZOFFSETTO:-0500
TZNAME:CDT
DTSTART:20230312T080000
END:DAYLIGHT
BEGIN:STANDARD
TZOFFSETFROM:-0500
TZOFFSETTO:-0600
TZNAME:CST
DTSTART:20231105T070000
END:STANDARD
BEGIN:DAYLIGHT
TZOFFSETFROM:-0600
TZOFFSETTO:-0500
TZNAME:CDT
DTSTART:20240310T080000
END:DAYLIGHT
BEGIN:STANDARD
TZOFFSETFROM:-0500
TZOFFSETTO:-0600
TZNAME:CST
DTSTART:20241103T070000
END:STANDARD
BEGIN:DAYLIGHT
TZOFFSETFROM:-0600
TZOFFSETTO:-0500
TZNAME:CDT
DTSTART:20250309T080000
END:DAYLIGHT
BEGIN:STANDARD
TZOFFSETFROM:-0500
TZOFFSETTO:-0600
TZNAME:CST
DTSTART:20251102T070000
END:STANDARD
END:VTIMEZONE
BEGIN:VEVENT
DTSTART;VALUE=DATE:20240801
DTEND;VALUE=DATE:20240811
DTSTAMP:20260423T164607
CREATED:20240729T153128Z
LAST-MODIFIED:20240729T153128Z
UID:15469-1722470400-1723334399@nmfarmandranchmuseum.org
SUMMARY:4-H Achievement Day on Display
DESCRIPTION:Display in the Arts Corridor during museum hours\nJoin us in celebrating our young people as the results of Doña Ana County 4-H Achievement Day are featured on display Aug. 1-10. \nDoña Ana County 4-H is a segment of the Doña Ana County Fair that offers youth the chance to present non-livestock exhibits. \nThis event serves as a qualifier for members advancing to the New Mexico State Fair and the 4-H Red Barn at the Southern New Mexico State Fair. Participants showcase skills honed over the past year in areas such as animal science\, natural science\, STEM\, personal growth and development\, creative arts\, home economics\, food and nutrition\, consumer education\, home management\, and family life. \nJudges evaluate the exhibits\, providing feedback and determining rankings in each category. Participants receive ribbons and premiums for their work. Additionally\, awards for Best of Show will be presented to one novice\, junior\, and senior 4-H member.
URL:https://nmfarmandranchmuseum.org/event/4-h-achievement-day-on-display/
LOCATION:NM
END:VEVENT
END:VCALENDAR