BEGIN:VCALENDAR
VERSION:2.0
PRODID:-//New Mexico Farm &amp; Ranch Heritage Museum - ECPv6.15.20//NONSGML v1.0//EN
CALSCALE:GREGORIAN
METHOD:PUBLISH
X-ORIGINAL-URL:https://nmfarmandranchmuseum.org
X-WR-CALDESC:Events for New Mexico Farm &amp; Ranch Heritage Museum
REFRESH-INTERVAL;VALUE=DURATION:PT1H
X-Robots-Tag:noindex
X-PUBLISHED-TTL:PT1H
BEGIN:VTIMEZONE
TZID:America/Chicago
BEGIN:DAYLIGHT
TZOFFSETFROM:-0600
TZOFFSETTO:-0500
TZNAME:CDT
DTSTART:20230312T080000
END:DAYLIGHT
BEGIN:STANDARD
TZOFFSETFROM:-0500
TZOFFSETTO:-0600
TZNAME:CST
DTSTART:20231105T070000
END:STANDARD
BEGIN:DAYLIGHT
TZOFFSETFROM:-0600
TZOFFSETTO:-0500
TZNAME:CDT
DTSTART:20240310T080000
END:DAYLIGHT
BEGIN:STANDARD
TZOFFSETFROM:-0500
TZOFFSETTO:-0600
TZNAME:CST
DTSTART:20241103T070000
END:STANDARD
BEGIN:DAYLIGHT
TZOFFSETFROM:-0600
TZOFFSETTO:-0500
TZNAME:CDT
DTSTART:20250309T080000
END:DAYLIGHT
BEGIN:STANDARD
TZOFFSETFROM:-0500
TZOFFSETTO:-0600
TZNAME:CST
DTSTART:20251102T070000
END:STANDARD
END:VTIMEZONE
BEGIN:VEVENT
DTSTART;TZID=America/Chicago:20240612T190000
DTEND;TZID=America/Chicago:20240612T210000
DTSTAMP:20260423T104401
CREATED:20240531T201123Z
LAST-MODIFIED:20240531T201123Z
UID:15408-1718218800-1718226000@nmfarmandranchmuseum.org
SUMMARY:Culture Series - Native American Jewelry
DESCRIPTION:While diamonds may have been Marilyn Monroe’s best friend\, New Mexicans know that nothing is more beautiful than silver and turquoise crafted with the finest artisanship. Join us at 7 p.m. on Wednesday\, June 12\, 2024\, for the next Culture Series presentation with one of the Southwest’s most knowledgeable jewelry experts. Lori Dahlstrom and her husband established Silver Assets in Mesilla more than 30 years ago. She’ll display some exquisite examples of Southwestern jewelry and explain its importance in the cultural fabric of New Mexico. Please RSVP with the number of people in your party to reservations.friends.nmfrhm@gmail.com.
URL:https://nmfarmandranchmuseum.org/event/culture-series-native-american-jewelry/
LOCATION:New Mexico Farm & Ranch Heritage Museum\, 4100 Dripping Springs Road\, Las Cruces\, NM\, 88011\, United States
ATTACH;FMTTYPE=image/jpeg:https://nmfarmandranchmuseum.org/wp-content/uploads/2024/05/Culure-Series-June-10.jpg
END:VEVENT
END:VCALENDAR