BEGIN:VCALENDAR
VERSION:2.0
PRODID:-//New Mexico Farm &amp; Ranch Heritage Museum - ECPv6.15.20//NONSGML v1.0//EN
CALSCALE:GREGORIAN
METHOD:PUBLISH
X-WR-CALNAME:New Mexico Farm &amp; Ranch Heritage Museum
X-ORIGINAL-URL:https://nmfarmandranchmuseum.org
X-WR-CALDESC:Events for New Mexico Farm &amp; Ranch Heritage Museum
REFRESH-INTERVAL;VALUE=DURATION:PT1H
X-Robots-Tag:noindex
X-PUBLISHED-TTL:PT1H
BEGIN:VTIMEZONE
TZID:America/Chicago
BEGIN:DAYLIGHT
TZOFFSETFROM:-0600
TZOFFSETTO:-0500
TZNAME:CDT
DTSTART:20240310T080000
END:DAYLIGHT
BEGIN:STANDARD
TZOFFSETFROM:-0500
TZOFFSETTO:-0600
TZNAME:CST
DTSTART:20241103T070000
END:STANDARD
BEGIN:DAYLIGHT
TZOFFSETFROM:-0600
TZOFFSETTO:-0500
TZNAME:CDT
DTSTART:20250309T080000
END:DAYLIGHT
BEGIN:STANDARD
TZOFFSETFROM:-0500
TZOFFSETTO:-0600
TZNAME:CST
DTSTART:20251102T070000
END:STANDARD
BEGIN:DAYLIGHT
TZOFFSETFROM:-0600
TZOFFSETTO:-0500
TZNAME:CDT
DTSTART:20260308T080000
END:DAYLIGHT
BEGIN:STANDARD
TZOFFSETFROM:-0500
TZOFFSETTO:-0600
TZNAME:CST
DTSTART:20261101T070000
END:STANDARD
END:VTIMEZONE
BEGIN:VEVENT
DTSTART;TZID=America/Chicago:20251120T100000
DTEND;TZID=America/Chicago:20251120T110000
DTSTAMP:20260424T000417
CREATED:20251106T204525Z
LAST-MODIFIED:20251106T204525Z
UID:16415-1763632800-1763636400@nmfarmandranchmuseum.org
SUMMARY:Get to Know Your Museum: PR Specialist Alison Penn
DESCRIPTION:Meet PR Specialist Alison Penn to learn about how Museum shares its stories with the community through media relations\, marketing\, social media\, newsletters\, and more at Get to Know Your Museum on Thursday\, Nov. 20. These free events are hosted by the Friends of the New Mexico Farm and Ranch Heritage Museum. \n\n\nFree and open to the public\nCoffee & socializing at 9:30 a.m.\nTalk at 10 a.m.\n\nThe Get to Know Your Museum monthly series gives Friends members and the public an opportunity to meet museum employees and ask questions about one of Southern New Mexico’s most valuable cultural assets. Learn more here. \n 
URL:https://nmfarmandranchmuseum.org/event/of-get-to-know-your-museum-pr-specialist-alison-penn/
LOCATION:New Mexico Farm & Ranch Heritage Museum\, 4100 Dripping Springs Road\, Las Cruces\, NM\, 88011\, United States
CATEGORIES:2025 Friends Event
END:VEVENT
END:VCALENDAR